0.00227272727272727
0.0
0.0
-0.00227272727272727
-94.5
31
